BEGIN:VCALENDAR
VERSION:2.0
PRODID:icalendar-ruby
CALSCALE:GREGORIAN
METHOD:PUBLISH
BEGIN:VEVENT
DTSTAMP:20260420T101122Z
UID:256-6773858@stcuthbert.ca
DTSTART:20260502T153000Z
DTEND:20260502T200000Z
CLASS:PUBLIC
CREATED:20260419T231159
DESCRIPTION:Saturday\, May 2 – 8:30 am to 1:00 pm\, please come and help 
 clean up the inside and grounds of the church. Register in the Narthex for
  food logistics afterwards. Contact Susan Gage: 778-866-0843
LAST-MODIFIED:20260419T231159
LOCATION:St. Cuthbert's Anglican Church\, 11601 82nd Street\, Delta\, BC V4
 C 2C3
SUMMARY:Spring Clean Up
URL;VALUE=URI:https://www.stcuthbert.ca/events/spring-clean-up/2026-05-02
ATTACH;FILENAME=2026 Spring Clean Up Day Flyer.png;FMTTYPE=image/png:https:
 //dq5pwpg1q8ru0.cloudfront.net/2026/04/20/06/11/59/35503b12-1282-44d4-9832
 -034ea9111b31/2026%20Spring%20Clean%20Up%20Day%20Flyer.png
END:VEVENT
END:VCALENDAR
